BEGIN:VCALENDAR
VERSION:2.0
PRODID:-//thehousedc.org - ECPv6.15.17//NONSGML v1.0//EN
CALSCALE:GREGORIAN
METHOD:PUBLISH
X-WR-CALNAME:thehousedc.org
X-ORIGINAL-URL:https://thehousedc.org
X-WR-CALDESC:Events for thehousedc.org
REFRESH-INTERVAL;VALUE=DURATION:PT1H
X-Robots-Tag:noindex
X-PUBLISHED-TTL:PT1H
BEGIN:VTIMEZONE
TZID:Asia/Dubai
BEGIN:STANDARD
TZOFFSETFROM:+0400
TZOFFSETTO:+0400
TZNAME:+04
DTSTART:20250101T000000
END:STANDARD
END:VTIMEZONE
BEGIN:VEVENT
DTSTART;TZID=Asia/Dubai:20260511T190000
DTEND;TZID=Asia/Dubai:20260511T210000
DTSTAMP:20260420T171339
CREATED:20260208T120026Z
LAST-MODIFIED:20260330T012526Z
UID:2795-1778526000-1778533200@thehousedc.org
SUMMARY:The House DC 27th Anniversary Celebration
DESCRIPTION:Registration & Cocktails 6:00 – 7:00 p.m.  \nDinner & Event 7:00 – 9:00 p.m. \nRegistration doc for The House DC 27th Anniversary Celebration
URL:https://thehousedc.org/event/the-house-dc-27th-anniversary-celebration/
LOCATION:The House DC 27th Anniversary\, 7920 Jones Branch Dr\, McLean\, VA\, 22102\, United States
ATTACH;FMTTYPE=image/png:https://thehousedc.org/wp-content/uploads/2026/02/Save-the-date_digital.png
END:VEVENT
END:VCALENDAR