BEGIN:VCALENDAR
VERSION:2.0
PRODID:-//thehousedc.org - ECPv6.15.17//NONSGML v1.0//EN
CALSCALE:GREGORIAN
METHOD:PUBLISH
X-WR-CALNAME:thehousedc.org
X-ORIGINAL-URL:https://thehousedc.org
X-WR-CALDESC:Events for thehousedc.org
REFRESH-INTERVAL;VALUE=DURATION:PT1H
X-Robots-Tag:noindex
X-PUBLISHED-TTL:PT1H
BEGIN:VTIMEZONE
TZID:Asia/Dubai
BEGIN:STANDARD
TZOFFSETFROM:+0400
TZOFFSETTO:+0400
TZNAME:+04
DTSTART:20230101T000000
END:STANDARD
END:VTIMEZONE
BEGIN:VTIMEZONE
TZID:UTC
BEGIN:STANDARD
TZOFFSETFROM:+0000
TZOFFSETTO:+0000
TZNAME:UTC
DTSTART:20230101T000000
END:STANDARD
END:VTIMEZONE
BEGIN:VEVENT
DTSTART;TZID=Asia/Dubai:20251008T110000
DTEND;TZID=Asia/Dubai:20251008T170000
DTSTAMP:20260420T193621
CREATED:20250813T115932Z
LAST-MODIFIED:20260208T115840Z
UID:2527-1759921200-1759942800@thehousedc.org
SUMMARY:26th Annual Golf Tournament
DESCRIPTION:Registration for the Golf Event 26th Anniversary
URL:https://thehousedc.org/event/26th-annual-golf-tournament/
LOCATION:Whiskey Creek Golf Club\, 4804 Whiskey Court\, Ijamsville\, MD\, 21754
ATTACH;FMTTYPE=image/png:https://thehousedc.org/wp-content/uploads/2025/08/Golf-Brochure-2025-image_Page_1.png
END:VEVENT
BEGIN:VEVENT
DTSTART;TZID=Asia/Dubai:20250512T180000
DTEND;TZID=Asia/Dubai:20250512T210000
DTSTAMP:20260420T193621
CREATED:20250314T075306Z
LAST-MODIFIED:20250703T013547Z
UID:2468-1747072800-1747083600@thehousedc.org
SUMMARY:Growing Into The Future
DESCRIPTION:Sold Out \nView PDF
URL:https://thehousedc.org/event/growing-into-the-future/
LOCATION:Growing Into The Future\, 7920 Jones Branch Drive\, McLean\, VA\, 22102\, United States
ATTACH;FMTTYPE=image/png:https://thehousedc.org/wp-content/uploads/2025/03/GrowingIntoFuture.png
END:VEVENT
BEGIN:VEVENT
DTSTART;TZID=Asia/Dubai:20241014T180000
DTEND;TZID=Asia/Dubai:20241014T210000
DTSTAMP:20260420T193621
CREATED:20240606T175039Z
LAST-MODIFIED:20250703T013625Z
UID:2346-1728928800-1728939600@thehousedc.org
SUMMARY:25 Year Anniversary Banquet
DESCRIPTION:View PDF
URL:https://thehousedc.org/event/25-year-anniversary-banquet/
LOCATION:Growing Into The Future\, 7920 Jones Branch Drive\, McLean\, VA\, 22102\, United States
ATTACH;FMTTYPE=image/jpeg:https://thehousedc.org/wp-content/uploads/2024/06/HOUSE_Anniversary2024.jpg
END:VEVENT
BEGIN:VEVENT
DTSTART;TZID=UTC:20240831T080000
DTEND;TZID=UTC:20240831T170000
DTSTAMP:20260420T193621
CREATED:20240625T080745Z
LAST-MODIFIED:20240626T072016Z
UID:2362-1725091200-1725123600@thehousedc.org
SUMMARY:Faith Day
DESCRIPTION:The Nationals invite churches and fellowship groups to join them on Faith Day. There will be a post game faith celebration with testimonies of faith by some of their players and staff! When you purchase your tickets through this designated site only\, The House DC benefits with $5.00 for each ticket sold. \nhttps://www.mlb.com/nationals/tickets/specials/faith-day
URL:https://thehousedc.org/event/faith-day/
LOCATION:Faith Day\, 1500 South Capitol St\, South East\, Washington DC\, 20003
ATTACH;FMTTYPE=image/jpeg:https://thehousedc.org/wp-content/uploads/2024/06/2024_FaithDay.jpg
END:VEVENT
END:VCALENDAR